BEGIN:VCALENDAR
VERSION:2.0
PRODID:-//Arizona Guard Card | Arrow Security | Glendale AZ - ECPv6.15.13.1//NONSGML v1.0//EN
CALSCALE:GREGORIAN
METHOD:PUBLISH
X-WR-CALNAME:Arizona Guard Card | Arrow Security | Glendale AZ
X-ORIGINAL-URL:https://www.arizonaguardcards.com
X-WR-CALDESC:Events for Arizona Guard Card | Arrow Security | Glendale AZ
REFRESH-INTERVAL;VALUE=DURATION:PT1H
X-Robots-Tag:noindex
X-PUBLISHED-TTL:PT1H
BEGIN:VTIMEZONE
TZID:America/New_York
BEGIN:DAYLIGHT
TZOFFSETFROM:-0500
TZOFFSETTO:-0400
TZNAME:EDT
DTSTART:20250309T070000
END:DAYLIGHT
BEGIN:STANDARD
TZOFFSETFROM:-0400
TZOFFSETTO:-0500
TZNAME:EST
DTSTART:20251102T060000
END:STANDARD
BEGIN:DAYLIGHT
TZOFFSETFROM:-0500
TZOFFSETTO:-0400
TZNAME:EDT
DTSTART:20260308T070000
END:DAYLIGHT
BEGIN:STANDARD
TZOFFSETFROM:-0400
TZOFFSETTO:-0500
TZNAME:EST
DTSTART:20261101T060000
END:STANDARD
BEGIN:DAYLIGHT
TZOFFSETFROM:-0500
TZOFFSETTO:-0400
TZNAME:EDT
DTSTART:20270314T070000
END:DAYLIGHT
BEGIN:STANDARD
TZOFFSETFROM:-0400
TZOFFSETTO:-0500
TZNAME:EST
DTSTART:20271107T060000
END:STANDARD
END:VTIMEZONE
BEGIN:VEVENT
DTSTART;TZID=America/New_York:20260113T100000
DTEND;TZID=America/New_York:20260113T140000
DTSTAMP:20260419T090811
CREATED:20260109T165249Z
LAST-MODIFIED:20260109T165249Z
UID:1173-1768298400-1768312800@www.arizonaguardcards.com
SUMMARY:Active Violence Immediate Response Training (AVIRT)
DESCRIPTION:PROVIDES COMPLETE TRAINING\nAVIRT combines active shooter and bleeding control training to give you and your team the skills you need in almost any emergency situation. With AVIRT training\, you’ll learn under realistic circumstances how to recognize the signs of danger\, react appropriately\, and make rapid survival decisions. \nACTIVE VIOLENCE\nWhen it comes to a violent critical incident\, being able to respond quickly and with confidence is vital to saving lives. With Avirt Training\, you will learn not only how to react in a violent situation\, but also emergency response bleeding control tactics. Our live scenario training simulates a typical encounter to help students retain what they’ve learned. \nBLEEDING CONTROL\nWith over one-million people trained worldwide\, the Avirt Training program is the premier resource for learning how to stop bleeding in a severely injured person. Knowledge of bleeding control is critical in an active shooter situation\, and our program goes beyond to teach you and your team both necessary skills. \nActive violence emergency training is designed to help empower and educate the people of your organization to make vital survival decisions during an attack. Active shooter preparedness solutions need to include not only proper training\, but also must give your people the confidence and preparation to respond quickly to an active shooter situation. \nLive scenario training with Avirt\, it covers vital aspects of violent encounter response such as alerts\, communication\, evacuation\, and in some circumstances countering a violent attacker\, and provides training in emergency bleeding control techniques. \nSeconds count when responding to an active shooter or violent encounter threat and with Active Violence Emergency Response Training\, you will learn under realistic circumstances how to recognize the signs of danger\, make rapid survival decisions and decide whether to Escape\, Evade or Attack. \nAvirt is designed to consider the specific needs of your organization\, delivering tailored training and vital live scenario experience.
URL:https://www.arizonaguardcards.com/event/active-violence-immediate-response-training-avirt/
CATEGORIES:Arizona Guard Card Events
END:VEVENT
END:VCALENDAR