BEGIN:VCALENDAR
VERSION:2.0
PRODID:-//Arizona Guard Card | Arrow Security | Glendale AZ - ECPv6.15.13.1//NONSGML v1.0//EN
CALSCALE:GREGORIAN
METHOD:PUBLISH
X-WR-CALNAME:Arizona Guard Card | Arrow Security | Glendale AZ
X-ORIGINAL-URL:https://www.arizonaguardcards.com
X-WR-CALDESC:Events for Arizona Guard Card | Arrow Security | Glendale AZ
REFRESH-INTERVAL;VALUE=DURATION:PT1H
X-Robots-Tag:noindex
X-PUBLISHED-TTL:PT1H
BEGIN:VTIMEZONE
TZID:America/New_York
BEGIN:DAYLIGHT
TZOFFSETFROM:-0500
TZOFFSETTO:-0400
TZNAME:EDT
DTSTART:20240310T070000
END:DAYLIGHT
BEGIN:STANDARD
TZOFFSETFROM:-0400
TZOFFSETTO:-0500
TZNAME:EST
DTSTART:20241103T060000
END:STANDARD
BEGIN:DAYLIGHT
TZOFFSETFROM:-0500
TZOFFSETTO:-0400
TZNAME:EDT
DTSTART:20250309T070000
END:DAYLIGHT
BEGIN:STANDARD
TZOFFSETFROM:-0400
TZOFFSETTO:-0500
TZNAME:EST
DTSTART:20251102T060000
END:STANDARD
BEGIN:DAYLIGHT
TZOFFSETFROM:-0500
TZOFFSETTO:-0400
TZNAME:EDT
DTSTART:20260308T070000
END:DAYLIGHT
BEGIN:STANDARD
TZOFFSETFROM:-0400
TZOFFSETTO:-0500
TZNAME:EST
DTSTART:20261101T060000
END:STANDARD
BEGIN:DAYLIGHT
TZOFFSETFROM:-0500
TZOFFSETTO:-0400
TZNAME:EDT
DTSTART:20270314T070000
END:DAYLIGHT
BEGIN:STANDARD
TZOFFSETFROM:-0400
TZOFFSETTO:-0500
TZNAME:EST
DTSTART:20271107T060000
END:STANDARD
END:VTIMEZONE
BEGIN:VEVENT
DTSTART;TZID=America/New_York:20260113T100000
DTEND;TZID=America/New_York:20260113T140000
DTSTAMP:20260419T143659
CREATED:20260109T165249Z
LAST-MODIFIED:20260109T165249Z
UID:1173-1768298400-1768312800@www.arizonaguardcards.com
SUMMARY:Active Violence Immediate Response Training (AVIRT)
DESCRIPTION:PROVIDES COMPLETE TRAINING\nAVIRT combines active shooter and bleeding control training to give you and your team the skills you need in almost any emergency situation. With AVIRT training\, you’ll learn under realistic circumstances how to recognize the signs of danger\, react appropriately\, and make rapid survival decisions. \nACTIVE VIOLENCE\nWhen it comes to a violent critical incident\, being able to respond quickly and with confidence is vital to saving lives. With Avirt Training\, you will learn not only how to react in a violent situation\, but also emergency response bleeding control tactics. Our live scenario training simulates a typical encounter to help students retain what they’ve learned. \nBLEEDING CONTROL\nWith over one-million people trained worldwide\, the Avirt Training program is the premier resource for learning how to stop bleeding in a severely injured person. Knowledge of bleeding control is critical in an active shooter situation\, and our program goes beyond to teach you and your team both necessary skills. \nActive violence emergency training is designed to help empower and educate the people of your organization to make vital survival decisions during an attack. Active shooter preparedness solutions need to include not only proper training\, but also must give your people the confidence and preparation to respond quickly to an active shooter situation. \nLive scenario training with Avirt\, it covers vital aspects of violent encounter response such as alerts\, communication\, evacuation\, and in some circumstances countering a violent attacker\, and provides training in emergency bleeding control techniques. \nSeconds count when responding to an active shooter or violent encounter threat and with Active Violence Emergency Response Training\, you will learn under realistic circumstances how to recognize the signs of danger\, make rapid survival decisions and decide whether to Escape\, Evade or Attack. \nAvirt is designed to consider the specific needs of your organization\, delivering tailored training and vital live scenario experience.
URL:https://www.arizonaguardcards.com/event/active-violence-immediate-response-training-avirt/
CATEGORIES:Arizona Guard Card Events
END:VEVENT
BEGIN:VEVENT
DTSTART;TZID=America/New_York:20251223T080000
DTEND;TZID=America/New_York:20251223T160000
DTSTAMP:20260419T143659
CREATED:20250815T165610Z
LAST-MODIFIED:20260109T044511Z
UID:909-1766476800-1766505600@www.arizonaguardcards.com
SUMMARY:Range Day
DESCRIPTION:Must have completed the ONLINE portion and have reserved the range Day through the online portal
URL:https://www.arizonaguardcards.com/event/range-day-9/
END:VEVENT
BEGIN:VEVENT
DTSTART;TZID=America/New_York:20251209T080000
DTEND;TZID=America/New_York:20251209T160000
DTSTAMP:20260419T143659
CREATED:20250815T165610Z
LAST-MODIFIED:20250815T165610Z
UID:910-1765267200-1765296000@www.arizonaguardcards.com
SUMMARY:Range Day
DESCRIPTION:Must have completed the ONLINE portion and have reserved the range Day through the online portal
URL:https://www.arizonaguardcards.com/event/range-day-10/
END:VEVENT
BEGIN:VEVENT
DTSTART;TZID=America/New_York:20251209T080000
DTEND;TZID=America/New_York:20251209T160000
DTSTAMP:20260419T143659
CREATED:20250815T165609Z
LAST-MODIFIED:20250815T165609Z
UID:908-1765267200-1765296000@www.arizonaguardcards.com
SUMMARY:Range Day
DESCRIPTION:Must have completed the ONLINE portion and have reserved the range Day through the online portal
URL:https://www.arizonaguardcards.com/event/range-day-8/
END:VEVENT
BEGIN:VEVENT
DTSTART;TZID=America/New_York:20251125T080000
DTEND;TZID=America/New_York:20251125T160000
DTSTAMP:20260419T143659
CREATED:20250815T165606Z
LAST-MODIFIED:20250815T165606Z
UID:907-1764057600-1764086400@www.arizonaguardcards.com
SUMMARY:Range Day
DESCRIPTION:Must have completed the ONLINE portion and have reserved the range Day through the online portal
URL:https://www.arizonaguardcards.com/event/range-day-7/
END:VEVENT
BEGIN:VEVENT
DTSTART;TZID=America/New_York:20251111T080000
DTEND;TZID=America/New_York:20251111T160000
DTSTAMP:20260419T143659
CREATED:20250815T165606Z
LAST-MODIFIED:20250815T165606Z
UID:906-1762848000-1762876800@www.arizonaguardcards.com
SUMMARY:Range Day
DESCRIPTION:Must have completed the ONLINE portion and have reserved the range Day through the online portal
URL:https://www.arizonaguardcards.com/event/range-day-6/
END:VEVENT
BEGIN:VEVENT
DTSTART;TZID=America/New_York:20251028T080000
DTEND;TZID=America/New_York:20251028T160000
DTSTAMP:20260419T143659
CREATED:20250815T165605Z
LAST-MODIFIED:20250815T165605Z
UID:905-1761638400-1761667200@www.arizonaguardcards.com
SUMMARY:Range Day
DESCRIPTION:Must have completed the ONLINE portion and have reserved the range Day through the online portal
URL:https://www.arizonaguardcards.com/event/range-day-5/
END:VEVENT
BEGIN:VEVENT
DTSTART;TZID=America/New_York:20251007T080000
DTEND;TZID=America/New_York:20251007T160000
DTSTAMP:20260419T143659
CREATED:20250815T165605Z
LAST-MODIFIED:20250815T165605Z
UID:904-1759824000-1759852800@www.arizonaguardcards.com
SUMMARY:Range Day
DESCRIPTION:Must have completed the ONLINE portion and have reserved the range Day through the online portal
URL:https://www.arizonaguardcards.com/event/range-day-4/
END:VEVENT
BEGIN:VEVENT
DTSTART;TZID=America/New_York:20250930T080000
DTEND;TZID=America/New_York:20250930T160000
DTSTAMP:20260419T143659
CREATED:20250815T165605Z
LAST-MODIFIED:20250815T165605Z
UID:903-1759219200-1759248000@www.arizonaguardcards.com
SUMMARY:Range Day
DESCRIPTION:Must have completed the ONLINE portion and have reserved the range Day through the online portal
URL:https://www.arizonaguardcards.com/event/range-day-3/
END:VEVENT
BEGIN:VEVENT
DTSTART;TZID=America/New_York:20250925T080000
DTEND;TZID=America/New_York:20250925T160000
DTSTAMP:20260419T143659
CREATED:20250815T173219Z
LAST-MODIFIED:20250815T173219Z
UID:918-1758787200-1758816000@www.arizonaguardcards.com
SUMMARY:Unarmed Guard Card Class
DESCRIPTION:If you haven’t already registered for the in-person call or go to www.azguardcards.com
URL:https://www.arizonaguardcards.com/event/unarmed-guard-card-class-6/
END:VEVENT
BEGIN:VEVENT
DTSTART;TZID=America/New_York:20250918T080000
DTEND;TZID=America/New_York:20250918T160000
DTSTAMP:20260419T143659
CREATED:20250815T173219Z
LAST-MODIFIED:20250815T173219Z
UID:917-1758182400-1758211200@www.arizonaguardcards.com
SUMMARY:Unarmed Guard Card Class
DESCRIPTION:If you haven’t already registered for the in-person call or go to www.azguardcards.com
URL:https://www.arizonaguardcards.com/event/unarmed-guard-card-class-5/
END:VEVENT
BEGIN:VEVENT
DTSTART;TZID=America/New_York:20250916T080000
DTEND;TZID=America/New_York:20250916T160000
DTSTAMP:20260419T143659
CREATED:20250815T162517Z
LAST-MODIFIED:20250815T163953Z
UID:887-1758009600-1758038400@www.arizonaguardcards.com
SUMMARY:Range Day
DESCRIPTION:Must have completed the ONLINE portion and have reserved the range Day through the online portal
URL:https://www.arizonaguardcards.com/event/range-day-2/
CATEGORIES:Arizona Guard Card Events
END:VEVENT
BEGIN:VEVENT
DTSTART;TZID=America/New_York:20250911T080000
DTEND;TZID=America/New_York:20250911T160000
DTSTAMP:20260419T143659
CREATED:20250815T173219Z
LAST-MODIFIED:20250815T173219Z
UID:916-1757577600-1757606400@www.arizonaguardcards.com
SUMMARY:Unarmed Guard Card Class
DESCRIPTION:If you haven’t already registered for the in-person call or go to www.azguardcards.com
URL:https://www.arizonaguardcards.com/event/unarmed-guard-card-class-4/
END:VEVENT
BEGIN:VEVENT
DTSTART;TZID=America/New_York:20250904T080000
DTEND;TZID=America/New_York:20250904T160000
DTSTAMP:20260419T143659
CREATED:20250815T165623Z
LAST-MODIFIED:20250815T165623Z
UID:913-1756972800-1757001600@www.arizonaguardcards.com
SUMMARY:Unarmed Guard Card Class
DESCRIPTION:If you haven’t already registered for the in-person call or go to www.azguardcards.com
URL:https://www.arizonaguardcards.com/event/unarmed-guard-card-class-3/
END:VEVENT
BEGIN:VEVENT
DTSTART;TZID=America/New_York:20250828T080000
DTEND;TZID=America/New_York:20250828T160000
DTSTAMP:20260419T143659
CREATED:20250815T165623Z
LAST-MODIFIED:20250815T165623Z
UID:912-1756368000-1756396800@www.arizonaguardcards.com
SUMMARY:Unarmed Guard Card Class
DESCRIPTION:If you haven’t already registered for the in-person call or go to www.azguardcards.com
URL:https://www.arizonaguardcards.com/event/unarmed-guard-card-class-2/
END:VEVENT
BEGIN:VEVENT
DTSTART;TZID=America/New_York:20250821T080000
DTEND;TZID=America/New_York:20250821T160000
DTSTAMP:20260419T143659
CREATED:20250815T163526Z
LAST-MODIFIED:20250815T165406Z
UID:895-1755763200-1755792000@www.arizonaguardcards.com
SUMMARY:Unarmed Guard Card Class
DESCRIPTION:If you haven’t already registered for the in-person call go to www.azguardcards.com
URL:https://www.arizonaguardcards.com/event/unarmed-guard-card-class/
CATEGORIES:Arizona Guard Card Events
END:VEVENT
BEGIN:VEVENT
DTSTART;TZID=America/New_York:20250819T080000
DTEND;TZID=America/New_York:20250819T160000
DTSTAMP:20260419T143659
CREATED:20250815T154631Z
LAST-MODIFIED:20250815T165446Z
UID:877-1755590400-1755619200@www.arizonaguardcards.com
SUMMARY:Range Day
DESCRIPTION:
URL:https://www.arizonaguardcards.com/event/range-day/
CATEGORIES:Arizona Guard Card Events
END:VEVENT
BEGIN:VEVENT
DTSTART;TZID=America/New_York:20250811T080000
DTEND;TZID=America/New_York:20250811T170000
DTSTAMP:20260419T143659
CREATED:20250811T184421Z
LAST-MODIFIED:20250815T154649Z
UID:674-1754899200-1754931600@www.arizonaguardcards.com
SUMMARY:Arizona Guard Card  Events
DESCRIPTION:
URL:https://www.arizonaguardcards.com/event/arizona-guard-card-events/
CATEGORIES:Arizona Guard Card Events
END:VEVENT
END:VCALENDAR