BEGIN:VCALENDAR
VERSION:2.0
PRODID:-//Arizona Guard Card | Arrow Security | Glendale AZ - ECPv6.15.13.1//NONSGML v1.0//EN
CALSCALE:GREGORIAN
METHOD:PUBLISH
X-ORIGINAL-URL:https://www.arizonaguardcards.com
X-WR-CALDESC:Events for Arizona Guard Card | Arrow Security | Glendale AZ
REFRESH-INTERVAL;VALUE=DURATION:PT1H
X-Robots-Tag:noindex
X-PUBLISHED-TTL:PT1H
BEGIN:VTIMEZONE
TZID:America/New_York
BEGIN:DAYLIGHT
TZOFFSETFROM:-0500
TZOFFSETTO:-0400
TZNAME:EDT
DTSTART:20250309T070000
END:DAYLIGHT
BEGIN:STANDARD
TZOFFSETFROM:-0400
TZOFFSETTO:-0500
TZNAME:EST
DTSTART:20251102T060000
END:STANDARD
BEGIN:DAYLIGHT
TZOFFSETFROM:-0500
TZOFFSETTO:-0400
TZNAME:EDT
DTSTART:20260308T070000
END:DAYLIGHT
BEGIN:STANDARD
TZOFFSETFROM:-0400
TZOFFSETTO:-0500
TZNAME:EST
DTSTART:20261101T060000
END:STANDARD
BEGIN:DAYLIGHT
TZOFFSETFROM:-0500
TZOFFSETTO:-0400
TZNAME:EDT
DTSTART:20270314T070000
END:DAYLIGHT
BEGIN:STANDARD
TZOFFSETFROM:-0400
TZOFFSETTO:-0500
TZNAME:EST
DTSTART:20271107T060000
END:STANDARD
END:VTIMEZONE
BEGIN:VEVENT
DTSTART;TZID=America/New_York:20260721T080000
DTEND;TZID=America/New_York:20260721T160000
DTSTAMP:20260419T225928
CREATED:20260109T053346Z
LAST-MODIFIED:20260109T053346Z
UID:1134-1784620800-1784649600@www.arizonaguardcards.com
SUMMARY:Range Day
DESCRIPTION:Must have completed the ONLINE portion and have reserved the range Day through the online portal
URL:https://www.arizonaguardcards.com/event/range-day-21/
END:VEVENT
BEGIN:VEVENT
DTSTART;TZID=America/New_York:20260804T080000
DTEND;TZID=America/New_York:20260804T160000
DTSTAMP:20260419T225928
CREATED:20260109T053407Z
LAST-MODIFIED:20260109T053407Z
UID:1136-1785830400-1785859200@www.arizonaguardcards.com
SUMMARY:Range Day
DESCRIPTION:Must have completed the ONLINE portion and have reserved the range Day through the online portal
URL:https://www.arizonaguardcards.com/event/range-day-22/
END:VEVENT
BEGIN:VEVENT
DTSTART;TZID=America/New_York:20260818T080000
DTEND;TZID=America/New_York:20260818T160000
DTSTAMP:20260419T225928
CREATED:20260109T053427Z
LAST-MODIFIED:20260109T053427Z
UID:1138-1787040000-1787068800@www.arizonaguardcards.com
SUMMARY:Range Day
DESCRIPTION:Must have completed the ONLINE portion and have reserved the range Day through the online portal
URL:https://www.arizonaguardcards.com/event/range-day-23/
END:VEVENT
BEGIN:VEVENT
DTSTART;TZID=America/New_York:20260901T080000
DTEND;TZID=America/New_York:20260901T160000
DTSTAMP:20260419T225928
CREATED:20260109T053449Z
LAST-MODIFIED:20260109T053449Z
UID:1140-1788249600-1788278400@www.arizonaguardcards.com
SUMMARY:Range Day
DESCRIPTION:Must have completed the ONLINE portion and have reserved the range Day through the online portal
URL:https://www.arizonaguardcards.com/event/range-day-24/
END:VEVENT
BEGIN:VEVENT
DTSTART;TZID=America/New_York:20260915T080000
DTEND;TZID=America/New_York:20260915T160000
DTSTAMP:20260419T225928
CREATED:20260109T053511Z
LAST-MODIFIED:20260109T053511Z
UID:1142-1789459200-1789488000@www.arizonaguardcards.com
SUMMARY:Range Day
DESCRIPTION:Must have completed the ONLINE portion and have reserved the range Day through the online portal
URL:https://www.arizonaguardcards.com/event/range-day-25/
END:VEVENT
BEGIN:VEVENT
DTSTART;TZID=America/New_York:20260929T080000
DTEND;TZID=America/New_York:20260929T160000
DTSTAMP:20260419T225928
CREATED:20260109T053535Z
LAST-MODIFIED:20260109T053535Z
UID:1144-1790668800-1790697600@www.arizonaguardcards.com
SUMMARY:Range Day
DESCRIPTION:Must have completed the ONLINE portion and have reserved the range Day through the online portal
URL:https://www.arizonaguardcards.com/event/range-day-26/
END:VEVENT
BEGIN:VEVENT
DTSTART;TZID=America/New_York:20261013T080000
DTEND;TZID=America/New_York:20261013T160000
DTSTAMP:20260419T225928
CREATED:20260109T053601Z
LAST-MODIFIED:20260109T053601Z
UID:1146-1791878400-1791907200@www.arizonaguardcards.com
SUMMARY:Range Day
DESCRIPTION:Must have completed the ONLINE portion and have reserved the range Day through the online portal
URL:https://www.arizonaguardcards.com/event/range-day-27/
END:VEVENT
BEGIN:VEVENT
DTSTART;TZID=America/New_York:20261027T080000
DTEND;TZID=America/New_York:20261027T160000
DTSTAMP:20260419T225928
CREATED:20260109T053626Z
LAST-MODIFIED:20260109T053626Z
UID:1148-1793088000-1793116800@www.arizonaguardcards.com
SUMMARY:Range Day
DESCRIPTION:Must have completed the ONLINE portion and have reserved the range Day through the online portal
URL:https://www.arizonaguardcards.com/event/range-day-28/
END:VEVENT
BEGIN:VEVENT
DTSTART;TZID=America/New_York:20261102T080000
DTEND;TZID=America/New_York:20261102T160000
DTSTAMP:20260419T225928
CREATED:20260109T053650Z
LAST-MODIFIED:20260109T053650Z
UID:1150-1793606400-1793635200@www.arizonaguardcards.com
SUMMARY:Range Day
DESCRIPTION:Must have completed the ONLINE portion and have reserved the range Day through the online portal
URL:https://www.arizonaguardcards.com/event/range-day-29/
END:VEVENT
BEGIN:VEVENT
DTSTART;TZID=America/New_York:20261124T080000
DTEND;TZID=America/New_York:20261124T160000
DTSTAMP:20260419T225928
CREATED:20260109T053714Z
LAST-MODIFIED:20260109T053714Z
UID:1152-1795507200-1795536000@www.arizonaguardcards.com
SUMMARY:Range Day
DESCRIPTION:Must have completed the ONLINE portion and have reserved the range Day through the online portal
URL:https://www.arizonaguardcards.com/event/range-day-30/
END:VEVENT
BEGIN:VEVENT
DTSTART;TZID=America/New_York:20261208T080000
DTEND;TZID=America/New_York:20261208T160000
DTSTAMP:20260419T225928
CREATED:20260109T053734Z
LAST-MODIFIED:20260109T053734Z
UID:1154-1796716800-1796745600@www.arizonaguardcards.com
SUMMARY:Range Day
DESCRIPTION:Must have completed the ONLINE portion and have reserved the range Day through the online portal
URL:https://www.arizonaguardcards.com/event/range-day-31/
END:VEVENT
BEGIN:VEVENT
DTSTART;TZID=America/New_York:20261222T080000
DTEND;TZID=America/New_York:20261222T160000
DTSTAMP:20260419T225928
CREATED:20260109T053755Z
LAST-MODIFIED:20260109T053755Z
UID:1156-1797926400-1797955200@www.arizonaguardcards.com
SUMMARY:Range Day
DESCRIPTION:Must have completed the ONLINE portion and have reserved the range Day through the online portal
URL:https://www.arizonaguardcards.com/event/range-day-32/
END:VEVENT
BEGIN:VEVENT
DTSTART;TZID=America/New_York:20261229T080000
DTEND;TZID=America/New_York:20261229T160000
DTSTAMP:20260419T225928
CREATED:20260109T053820Z
LAST-MODIFIED:20260109T053820Z
UID:1158-1798531200-1798560000@www.arizonaguardcards.com
SUMMARY:Range Day
DESCRIPTION:Must have completed the ONLINE portion and have reserved the range Day through the online portal
URL:https://www.arizonaguardcards.com/event/range-day-33/
END:VEVENT
END:VCALENDAR